BEGIN:VCALENDAR
VERSION:2.0
PRODID:icalendar-ruby
CALSCALE:GREGORIAN
METHOD:PUBLISH
BEGIN:VEVENT
DTSTAMP:20260420T154150Z
UID:548-631488@lwchurch.ca
DTSTART:20260606T010000Z
DTEND:20260606T040000Z
CLASS:PUBLIC
CREATED:20260416T142211
DESCRIPTION:Come and hang out with us! \nOur Women's Network is kicking of
 f the summer with a great evening of enjoying dinner together! There is no
  scheduled program for the evening\, just a potluck dinner and a chance to
  have fun together. If you are new to Living Waters\, this is a great chan
 ce to get to know other women of all ages in our community. You are invite
 d!\nWhere?\nAnnika and Al Janssens have graciously shared their yard\, BBQ
 \, and firepit with us. They live close to the church at 22390 Telegraph T
 rail.\nWhat to Bring?\n\nA lawnchair\nA water bottle\nA side dish\n\nWe'll
  provide veggie &amp\; hamburgers\, plates &amp\; cutlery. There's no cost
  to the event\, but do sign up\, so we know you're coming!\nIf you have an
 y questions\, contact Kristie. We look forward to seeing you! 
LAST-MODIFIED:20260416T142211
LOCATION:22390 Telegraph Trail\, Langley
SUMMARY:Women's Network BBQ Potluck
URL;VALUE=URI:https://lwchurch.ca/events/womens-network-bbq-potluck--548/20
 26-06-05
ATTACH;FILENAME=2026.06 - Womens Network BBQ Potluck web.jpg;FMTTYPE=image/
 jpeg:https://dq5pwpg1q8ru0.cloudfront.net/2026/04/16/21/22/10/11c8ad28-bc1
 8-4ffa-a727-db90b921d095/2026.06%20-%20Womens%20Network%20BBQ%20Potluck%20
 web.jpg
END:VEVENT
END:VCALENDAR
